Package: phenoTest Version: 1.56.0 Maintainer: Evarist Planet MaintainerEmail: evarist.planet at epfl.ch git_url: https://git.bioconductor.org/packages/phenoTest git_branch: RELEASE_3_21 git_last_commit: 499800e git_last_commit_date: 2025-04-15 10:01:38 -0400 (Tue, 15 Apr 2025)