Package: phantasusLite Version: 1.6.0 Command: /Library/Frameworks/R.framework/Resources/bin/R CMD build --keep-empty-dirs --no-resave-data phantasusLite StartedAt: 2025-09-25 21:31:52 -0400 (Thu, 25 Sep 2025) EndedAt: 2025-09-25 21:33:30 -0400 (Thu, 25 Sep 2025) EllapsedTime: 97.9 seconds RetCode: 0 Status: OK PackageFile: phantasusLite_1.6.0.tar.gz PackageFileSize: 233.4 KiB