Package: phantasusLite Version: 1.6.0 Command: rm -rf phantasusLite.buildbin-libdir && mkdir phantasusLite.buildbin-libdir && /Users/biocbuild/BBS/utils/build-universal.sh phantasusLite_1.6.0.tar.gz /Library/Frameworks/R.framework/Resources/bin/R phantasusLite.buildbin-libdir StartedAt: 2025-09-26 15:25:56 -0400 (Fri, 26 Sep 2025) EndedAt: 2025-09-26 15:26:45 -0400 (Fri, 26 Sep 2025) EllapsedTime: 49.4 seconds RetCode: 0 Status: OK PackageFile: phantasusLite_1.6.0.tgz PackageFileSize: 304.1 KiB