Package: phantasusLite Version: 1.6.0 Command: /home/biocbuild/R/R/bin/R CMD INSTALL phantasusLite StartedAt: 2025-09-25 21:17:40 -0000 (Thu, 25 Sep 2025) EndedAt: 2025-09-25 21:18:06 -0000 (Thu, 25 Sep 2025) EllapsedTime: 25.5 seconds RetCode: 0 Status: OK