Package: phantasusLite Version: 1.6.0 Command: /home/biocbuild/R/R/bin/R CMD check --install=check:phantasusLite.install-out.txt --library=/home/biocbuild/R/R/site-library --no-vignettes --timings phantasusLite_1.6.0.tar.gz StartedAt: 2025-09-26 13:49:07 -0000 (Fri, 26 Sep 2025) EndedAt: 2025-09-26 13:54:28 -0000 (Fri, 26 Sep 2025) EllapsedTime: 321.3 seconds RetCode: 0 Status: OK CheckDir: phantasusLite.Rcheck Warnings: 0