Package: phantasusLite Version: 1.6.0 Command: /home/biocbuild/R/R/bin/R CMD build --keep-empty-dirs --no-resave-data phantasusLite StartedAt: 2025-09-26 04:49:35 -0000 (Fri, 26 Sep 2025) EndedAt: 2025-09-26 04:51:16 -0000 (Fri, 26 Sep 2025) EllapsedTime: 101.0 seconds RetCode: 0 Status: OK PackageFile: phantasusLite_1.6.0.tar.gz PackageFileSize: 259.3 KiB