Package: phantasusLite Version: 1.6.0 Command: /Library/Frameworks/R.framework/Resources/bin/R CMD INSTALL phantasusLite StartedAt: 2025-10-13 18:29:33 -0400 (Mon, 13 Oct 2025) EndedAt: 2025-10-13 18:29:53 -0400 (Mon, 13 Oct 2025) EllapsedTime: 19.9 seconds RetCode: 0 Status: OK