Package: phantasusLite Version: 1.6.0 Command: /Library/Frameworks/R.framework/Resources/bin/R CMD check --install=check:phantasusLite.install-out.txt --library=/Library/Frameworks/R.framework/Resources/library --no-vignettes --timings phantasusLite_1.6.0.tar.gz StartedAt: 2025-10-15 07:24:18 -0400 (Wed, 15 Oct 2025) EndedAt: 2025-10-15 07:28:28 -0400 (Wed, 15 Oct 2025) EllapsedTime: 250.1 seconds RetCode: 0 Status: OK CheckDir: phantasusLite.Rcheck Warnings: 0