Package: phantasus Version: 1.28.0 Command: /home/biocbuild/bbs-3.21-bioc/R/bin/R CMD check --install=check:phantasus.install-out.txt --library=/home/biocbuild/bbs-3.21-bioc/R/site-library --timings phantasus_1.28.0.tar.gz StartedAt: 2025-10-02 02:06:31 -0400 (Thu, 02 Oct 2025) EndedAt: 2025-10-02 02:12:34 -0400 (Thu, 02 Oct 2025) EllapsedTime: 362.6 seconds RetCode: 0 Status: OK CheckDir: phantasus.Rcheck Warnings: 0