Package: phantasus Version: 1.28.0 Command: /home/biocbuild/bbs-3.21-bioc/R/bin/R CMD build --keep-empty-dirs --no-resave-data phantasus StartedAt: 2025-10-01 19:11:22 -0400 (Wed, 01 Oct 2025) EndedAt: 2025-10-01 19:12:02 -0400 (Wed, 01 Oct 2025) EllapsedTime: 40.0 seconds RetCode: 0 Status: OK PackageFile: phantasus_1.28.0.tar.gz PackageFileSize: 9.551 MiB