Package: phantasus Version: 1.28.0 Command: /home/biocbuild/R/R/bin/R CMD check --install=check:phantasus.install-out.txt --library=/home/biocbuild/R/R/site-library --no-vignettes --timings phantasus_1.28.0.tar.gz StartedAt: 2025-10-10 12:18:00 -0000 (Fri, 10 Oct 2025) EndedAt: 2025-10-10 12:28:21 -0000 (Fri, 10 Oct 2025) EllapsedTime: 621.5 seconds RetCode: 1 Status: ERROR CheckDir: phantasus.Rcheck Warnings: NA