Package: phantasus Version: 1.28.0 Command: /home/biocbuild/R/R/bin/R CMD build --keep-empty-dirs --no-resave-data phantasus StartedAt: 2025-10-10 03:25:49 -0000 (Fri, 10 Oct 2025) EndedAt: 2025-10-10 03:26:46 -0000 (Fri, 10 Oct 2025) EllapsedTime: 57.0 seconds RetCode: 0 Status: OK PackageFile: phantasus_1.28.0.tar.gz PackageFileSize: 9.609 MiB