Package: phantasus Version: 1.28.0 Command: /Library/Frameworks/R.framework/Resources/bin/R CMD INSTALL phantasus StartedAt: 2025-09-29 18:35:42 -0400 (Mon, 29 Sep 2025) EndedAt: 2025-09-29 18:36:23 -0400 (Mon, 29 Sep 2025) EllapsedTime: 40.8 seconds RetCode: 0 Status: OK