Package: phantasus Version: 1.28.0 Command: /Library/Frameworks/R.framework/Resources/bin/R CMD check --install=check:phantasus.install-out.txt --library=/Library/Frameworks/R.framework/Resources/library --no-vignettes --timings phantasus_1.28.0.tar.gz StartedAt: 2025-10-01 07:20:39 -0400 (Wed, 01 Oct 2025) EndedAt: 2025-10-01 07:27:52 -0400 (Wed, 01 Oct 2025) EllapsedTime: 433.6 seconds RetCode: 0 Status: OK CheckDir: phantasus.Rcheck Warnings: 0