Package: pgca Version: 1.32.0 Command: rm -rf pgca.buildbin-libdir && mkdir pgca.buildbin-libdir && E:\biocbuild\bbs-3.21-bioc\R\bin\R.exe CMD INSTALL --build --library=pgca.buildbin-libdir pgca_1.32.0.tar.gz StartedAt: 2025-08-15 09:55:55 -0400 (Fri, 15 Aug 2025) EndedAt: 2025-08-15 09:56:06 -0400 (Fri, 15 Aug 2025) EllapsedTime: 10.4 seconds RetCode: 0 Status: OK PackageFile: pgca_1.32.0.zip PackageFileSize: 149.7 KiB