Package: pgca Version: 1.32.0 Command: /home/biocbuild/bbs-3.21-bioc/R/bin/R CMD INSTALL pgca StartedAt: 2025-10-15 15:01:55 -0400 (Wed, 15 Oct 2025) EndedAt: 2025-10-15 15:02:00 -0400 (Wed, 15 Oct 2025) EllapsedTime: 4.7 seconds RetCode: 0 Status: OK