Package: pgca Version: 1.32.0 Command: /home/biocbuild/bbs-3.21-bioc/R/bin/R CMD build --keep-empty-dirs --no-resave-data pgca StartedAt: 2025-10-15 19:07:38 -0400 (Wed, 15 Oct 2025) EndedAt: 2025-10-15 19:07:42 -0400 (Wed, 15 Oct 2025) EllapsedTime: 4.0 seconds RetCode: 0 Status: OK PackageFile: pgca_1.32.0.tar.gz PackageFileSize: 216.9 KiB