Package: pgca Version: 1.32.0 Command: /Library/Frameworks/R.framework/Resources/bin/R CMD INSTALL pgca StartedAt: 2025-10-13 15:06:05 -0400 (Mon, 13 Oct 2025) EndedAt: 2025-10-13 15:06:15 -0400 (Mon, 13 Oct 2025) EllapsedTime: 10.6 seconds RetCode: 0 Status: OK