Package: pgca Version: 1.32.0 Command: /Library/Frameworks/R.framework/Resources/bin/R CMD build --keep-empty-dirs --no-resave-data pgca StartedAt: 2025-10-13 21:30:51 -0400 (Mon, 13 Oct 2025) EndedAt: 2025-10-13 21:31:03 -0400 (Mon, 13 Oct 2025) EllapsedTime: 12.3 seconds RetCode: 0 Status: OK PackageFile: pgca_1.32.0.tar.gz PackageFileSize: 216.9 KiB