Package: pgca Version: 1.32.0 Command: /home/biocbuild/R/R/bin/R CMD build --keep-empty-dirs --no-resave-data pgca StartedAt: 2025-10-14 03:29:42 -0000 (Tue, 14 Oct 2025) EndedAt: 2025-10-14 03:29:48 -0000 (Tue, 14 Oct 2025) EllapsedTime: 6.0 seconds RetCode: 0 Status: OK PackageFile: pgca_1.32.0.tar.gz PackageFileSize: 217.4 KiB