Package: pgca Version: 1.32.0 Command: rm -rf pgca.buildbin-libdir && mkdir pgca.buildbin-libdir && /Users/biocbuild/BBS/utils/build-universal.sh pgca_1.32.0.tar.gz /Library/Frameworks/R.framework/Resources/bin/R pgca.buildbin-libdir StartedAt: 2025-04-21 22:46:09 -0400 (Mon, 21 Apr 2025) EndedAt: 2025-04-21 22:46:11 -0400 (Mon, 21 Apr 2025) EllapsedTime: 2.0 seconds RetCode: 0 Status: OK PackageFile: pgca_1.32.0.tgz PackageFileSize: 144.2 KiB