Package: pgca Version: 1.32.0 Command: /Library/Frameworks/R.framework/Resources/bin/R CMD check --install=check:pgca.install-out.txt --library=/Library/Frameworks/R.framework/Resources/library --no-vignettes --timings pgca_1.32.0.tar.gz StartedAt: 2025-10-08 09:20:42 -0400 (Wed, 08 Oct 2025) EndedAt: 2025-10-08 09:21:13 -0400 (Wed, 08 Oct 2025) EllapsedTime: 31.6 seconds RetCode: 0 Status: OK CheckDir: pgca.Rcheck Warnings: 0