Package: pgca Version: 1.32.0 Command: rm -rf pgca.buildbin-libdir && mkdir pgca.buildbin-libdir && /Users/biocbuild/BBS/utils/build-universal.sh pgca_1.32.0.tar.gz /Library/Frameworks/R.framework/Resources/bin/R pgca.buildbin-libdir StartedAt: 2025-10-04 19:15:25 -0400 (Sat, 04 Oct 2025) EndedAt: 2025-10-04 19:15:29 -0400 (Sat, 04 Oct 2025) EllapsedTime: 3.4 seconds RetCode: 0 Status: OK PackageFile: pgca_1.32.0.tgz PackageFileSize: 144.1 KiB