Package: pfamAnalyzeR Version: 1.8.0 Command: rm -rf pfamAnalyzeR.buildbin-libdir && mkdir pfamAnalyzeR.buildbin-libdir && E:\biocbuild\bbs-3.21-bioc\R\bin\R.exe CMD INSTALL --build --library=pfamAnalyzeR.buildbin-libdir pfamAnalyzeR_1.8.0.tar.gz StartedAt: 2025-08-15 09:55:53 -0400 (Fri, 15 Aug 2025) EndedAt: 2025-08-15 09:56:11 -0400 (Fri, 15 Aug 2025) EllapsedTime: 18.6 seconds RetCode: 0 Status: OK PackageFile: pfamAnalyzeR_1.8.0.zip PackageFileSize: 316.9 KiB