Package: pfamAnalyzeR Version: 1.8.0 Command: /Library/Frameworks/R.framework/Resources/bin/R CMD check --install=check:pfamAnalyzeR.install-out.txt --library=/Library/Frameworks/R.framework/Resources/library --no-vignettes --timings pfamAnalyzeR_1.8.0.tar.gz StartedAt: 2025-10-14 08:08:55 -0400 (Tue, 14 Oct 2025) EndedAt: 2025-10-14 08:10:05 -0400 (Tue, 14 Oct 2025) EllapsedTime: 70.1 seconds RetCode: 0 Status: OK CheckDir: pfamAnalyzeR.Rcheck Warnings: 0