Package: pfamAnalyzeR Version: 1.8.0 Command: /Library/Frameworks/R.framework/Resources/bin/R CMD INSTALL pfamAnalyzeR StartedAt: 2025-10-13 15:22:53 -0400 (Mon, 13 Oct 2025) EndedAt: 2025-10-13 15:22:57 -0400 (Mon, 13 Oct 2025) EllapsedTime: 4.3 seconds RetCode: 0 Status: OK