Package: pepStat Version: 1.42.0 Command: chmod a+r pepStat -R && E:\biocbuild\bbs-3.21-bioc\R\bin\R.exe CMD build --keep-empty-dirs --no-resave-data pepStat StartedAt: 2025-08-14 21:14:18 -0400 (Thu, 14 Aug 2025) EndedAt: 2025-08-14 21:15:33 -0400 (Thu, 14 Aug 2025) EllapsedTime: 75.8 seconds RetCode: 0 Status: OK PackageFile: pepStat_1.42.0.tar.gz PackageFileSize: 296.9 KiB