Package: pepStat Version: 1.42.0 Command: rm -rf pepStat.buildbin-libdir && mkdir pepStat.buildbin-libdir && E:\biocbuild\bbs-3.21-bioc\R\bin\R.exe CMD INSTALL --build --library=pepStat.buildbin-libdir pepStat_1.42.0.tar.gz StartedAt: 2025-08-15 09:55:39 -0400 (Fri, 15 Aug 2025) EndedAt: 2025-08-15 09:56:39 -0400 (Fri, 15 Aug 2025) EllapsedTime: 59.8 seconds RetCode: 0 Status: OK PackageFile: pepStat_1.42.0.zip PackageFileSize: 713.6 KiB