Package: pepStat Version: 1.42.0 Command: /Library/Frameworks/R.framework/Resources/bin/R CMD check --install=check:pepStat.install-out.txt --library=/Library/Frameworks/R.framework/Resources/library --no-vignettes --timings pepStat_1.42.0.tar.gz StartedAt: 2025-10-14 08:07:11 -0400 (Tue, 14 Oct 2025) EndedAt: 2025-10-14 08:12:06 -0400 (Tue, 14 Oct 2025) EllapsedTime: 295.0 seconds RetCode: 0 Status: OK CheckDir: pepStat.Rcheck Warnings: 0