Package: pepStat Version: 1.42.0 Command: /Library/Frameworks/R.framework/Resources/bin/R CMD build --keep-empty-dirs --no-resave-data pepStat StartedAt: 2025-10-10 06:47:37 -0400 (Fri, 10 Oct 2025) EndedAt: 2025-10-10 06:48:58 -0400 (Fri, 10 Oct 2025) EllapsedTime: 81.8 seconds RetCode: 0 Status: OK PackageFile: pepStat_1.42.0.tar.gz PackageFileSize: 320.3 KiB