Package: pepStat Version: 1.42.0 Command: rm -rf pepStat.buildbin-libdir && mkdir pepStat.buildbin-libdir && /Users/biocbuild/BBS/utils/build-universal.sh pepStat_1.42.0.tar.gz /Library/Frameworks/R.framework/Resources/bin/R pepStat.buildbin-libdir StartedAt: 2025-10-15 19:46:13 -0400 (Wed, 15 Oct 2025) EndedAt: 2025-10-15 19:46:36 -0400 (Wed, 15 Oct 2025) EllapsedTime: 22.9 seconds RetCode: 0 Status: OK PackageFile: pepStat_1.42.0.tgz PackageFileSize: 733.9 KiB