Package: pengls Version: 1.14.0 Command: chmod a+r pengls -R && E:\biocbuild\bbs-3.21-bioc\R\bin\R.exe CMD build --keep-empty-dirs --no-resave-data pengls StartedAt: 2025-08-14 21:13:34 -0400 (Thu, 14 Aug 2025) EndedAt: 2025-08-14 21:19:44 -0400 (Thu, 14 Aug 2025) EllapsedTime: 369.7 seconds RetCode: 0 Status: OK PackageFile: pengls_1.14.0.tar.gz PackageFileSize: 25.62 KiB