Package: pengls Version: 1.14.0 Command: /Library/Frameworks/R.framework/Resources/bin/R CMD INSTALL pengls StartedAt: 2025-10-13 15:12:08 -0400 (Mon, 13 Oct 2025) EndedAt: 2025-10-13 15:13:10 -0400 (Mon, 13 Oct 2025) EllapsedTime: 62.1 seconds RetCode: 0 Status: OK