Package: pengls Version: 1.14.0 Command: /Library/Frameworks/R.framework/Resources/bin/R CMD check --install=check:pengls.install-out.txt --library=/Library/Frameworks/R.framework/Resources/library --no-vignettes --timings pengls_1.14.0.tar.gz StartedAt: 2025-10-14 08:05:51 -0400 (Tue, 14 Oct 2025) EndedAt: 2025-10-14 08:23:30 -0400 (Tue, 14 Oct 2025) EllapsedTime: 1059.2 seconds RetCode: 0 Status: OK CheckDir: pengls.Rcheck Warnings: 0