Package: pengls Version: 1.14.0 Command: rm -rf pengls.buildbin-libdir && mkdir pengls.buildbin-libdir && /Users/biocbuild/BBS/utils/build-universal.sh pengls_1.14.0.tar.gz /Library/Frameworks/R.framework/Resources/bin/R pengls.buildbin-libdir StartedAt: 2025-10-14 14:21:53 -0400 (Tue, 14 Oct 2025) EndedAt: 2025-10-14 14:22:10 -0400 (Tue, 14 Oct 2025) EllapsedTime: 17.0 seconds RetCode: 0 Status: OK PackageFile: pengls_1.14.0.tgz PackageFileSize: 95.47 KiB