Package: peco Version: 1.20.0 Command: /home/biocbuild/bbs-3.21-bioc/R/bin/R CMD check --install=check:peco.install-out.txt --library=/home/biocbuild/bbs-3.21-bioc/R/site-library --timings peco_1.20.0.tar.gz StartedAt: 2025-10-16 02:07:15 -0400 (Thu, 16 Oct 2025) EndedAt: 2025-10-16 02:17:11 -0400 (Thu, 16 Oct 2025) EllapsedTime: 595.8 seconds RetCode: 0 Status: OK CheckDir: peco.Rcheck Warnings: 0