Package: peco Version: 1.20.0 Command: /home/biocbuild/R/R/bin/R CMD check --install=check:peco.install-out.txt --library=/home/biocbuild/R/R/site-library --no-vignettes --timings peco_1.20.0.tar.gz StartedAt: 2025-10-14 12:26:11 -0000 (Tue, 14 Oct 2025) EndedAt: 2025-10-14 12:38:04 -0000 (Tue, 14 Oct 2025) EllapsedTime: 712.8 seconds RetCode: 0 Status: OK CheckDir: peco.Rcheck Warnings: 0