Package: peakPantheR Version: 1.22.0 Command: E:\biocbuild\bbs-3.21-bioc\R\bin\R.exe CMD check --no-multiarch --install=check:peakPantheR.install-out.txt --library=E:\biocbuild\bbs-3.21-bioc\R\library --no-vignettes --timings peakPantheR_1.22.0.tar.gz StartedAt: 2025-08-15 05:16:52 -0400 (Fri, 15 Aug 2025) EndedAt: 2025-08-15 05:42:53 -0400 (Fri, 15 Aug 2025) EllapsedTime: 1560.3 seconds RetCode: 0 Status: OK CheckDir: peakPantheR.Rcheck Warnings: 0