Package: peakPantheR Version: 1.22.1 Command: /home/biocbuild/bbs-3.21-bioc/R/bin/R CMD INSTALL peakPantheR StartedAt: 2025-10-15 15:36:46 -0400 (Wed, 15 Oct 2025) EndedAt: 2025-10-15 15:36:56 -0400 (Wed, 15 Oct 2025) EllapsedTime: 10.2 seconds RetCode: 0 Status: OK