Package: peakPantheR Version: 1.22.1 Command: /home/biocbuild/bbs-3.21-bioc/R/bin/R CMD check --install=check:peakPantheR.install-out.txt --library=/home/biocbuild/bbs-3.21-bioc/R/site-library --timings peakPantheR_1.22.1.tar.gz StartedAt: 2025-10-16 02:06:51 -0400 (Thu, 16 Oct 2025) EndedAt: 2025-10-16 02:30:54 -0400 (Thu, 16 Oct 2025) EllapsedTime: 1442.9 seconds RetCode: 0 Status: OK CheckDir: peakPantheR.Rcheck Warnings: 0