Package: peakPantheR Version: 1.22.1 Command: /Library/Frameworks/R.framework/Resources/bin/R CMD INSTALL peakPantheR StartedAt: 2025-10-13 16:15:39 -0400 (Mon, 13 Oct 2025) EndedAt: 2025-10-13 16:16:04 -0400 (Mon, 13 Oct 2025) EllapsedTime: 25.7 seconds RetCode: 0 Status: OK