Package: peakPantheR Version: 1.22.1 Command: rm -rf peakPantheR.buildbin-libdir && mkdir peakPantheR.buildbin-libdir && /Users/biocbuild/BBS/utils/build-universal.sh peakPantheR_1.22.1.tar.gz /Library/Frameworks/R.framework/Resources/bin/R peakPantheR.buildbin-libdir StartedAt: 2025-10-14 14:21:35 -0400 (Tue, 14 Oct 2025) EndedAt: 2025-10-14 14:22:14 -0400 (Tue, 14 Oct 2025) EllapsedTime: 39.4 seconds RetCode: 0 Status: OK PackageFile: peakPantheR_1.22.1.tgz PackageFileSize: 4.329 MiB