Package: peakPantheR Version: 1.22.1 Command: /Library/Frameworks/R.framework/Resources/bin/R CMD INSTALL peakPantheR StartedAt: 2025-10-13 17:06:01 -0400 (Mon, 13 Oct 2025) EndedAt: 2025-10-13 17:06:13 -0400 (Mon, 13 Oct 2025) EllapsedTime: 11.9 seconds RetCode: 0 Status: OK