Package: peakPantheR Version: 1.22.1 Command: /Library/Frameworks/R.framework/Resources/bin/R CMD check --install=check:peakPantheR.install-out.txt --library=/Library/Frameworks/R.framework/Resources/library --no-vignettes --timings peakPantheR_1.22.1.tar.gz StartedAt: 2025-10-15 07:12:08 -0400 (Wed, 15 Oct 2025) EndedAt: 2025-10-15 07:39:46 -0400 (Wed, 15 Oct 2025) EllapsedTime: 1657.9 seconds RetCode: 1 Status: ERROR CheckDir: peakPantheR.Rcheck Warnings: NA