Package: peakPantheR Version: 1.22.1 Maintainer: Arnaud Wolfer MaintainerEmail: adwolfer at gmail.com git_url: https://git.bioconductor.org/packages/peakPantheR git_branch: RELEASE_3_21 git_last_commit: bf87a9e git_last_commit_date: 2025-09-27 17:27:28 -0400 (Sat, 27 Sep 2025)