Package: paxtoolsr Version: 1.42.0 Command: /Library/Frameworks/R.framework/Resources/bin/R CMD INSTALL paxtoolsr StartedAt: 2025-10-13 15:13:54 -0400 (Mon, 13 Oct 2025) EndedAt: 2025-10-13 15:14:24 -0400 (Mon, 13 Oct 2025) EllapsedTime: 29.7 seconds RetCode: 0 Status: OK