Package: pathwayPCA Version: 1.24.0 Command: /home/biocbuild/bbs-3.21-bioc/R/bin/R CMD build --keep-empty-dirs --no-resave-data pathwayPCA StartedAt: 2025-10-15 19:05:23 -0400 (Wed, 15 Oct 2025) EndedAt: 2025-10-15 19:07:46 -0400 (Wed, 15 Oct 2025) EllapsedTime: 143.2 seconds RetCode: 0 Status: OK PackageFile: pathwayPCA_1.24.0.tar.gz PackageFileSize: 3.388 MiB