Package: pathwayPCA Version: 1.24.0 Command: /home/biocbuild/R/R/bin/R CMD build --keep-empty-dirs --no-resave-data pathwayPCA StartedAt: 2025-10-14 03:25:58 -0000 (Tue, 14 Oct 2025) EndedAt: 2025-10-14 03:29:53 -0000 (Tue, 14 Oct 2025) EllapsedTime: 234.3 seconds RetCode: 0 Status: OK PackageFile: pathwayPCA_1.24.0.tar.gz PackageFileSize: 3.32 MiB