Package: pathwayPCA Version: 1.24.0 Command: /Library/Frameworks/R.framework/Resources/bin/R CMD INSTALL pathwayPCA StartedAt: 2025-10-13 15:16:03 -0400 (Mon, 13 Oct 2025) EndedAt: 2025-10-13 15:16:15 -0400 (Mon, 13 Oct 2025) EllapsedTime: 12.2 seconds RetCode: 0 Status: OK