Package: pathwayPCA Version: 1.24.0 Command: /Library/Frameworks/R.framework/Resources/bin/R CMD check --install=check:pathwayPCA.install-out.txt --library=/Library/Frameworks/R.framework/Resources/library --no-vignettes --timings pathwayPCA_1.24.0.tar.gz StartedAt: 2025-10-15 07:05:25 -0400 (Wed, 15 Oct 2025) EndedAt: 2025-10-15 07:08:12 -0400 (Wed, 15 Oct 2025) EllapsedTime: 167.1 seconds RetCode: 0 Status: OK CheckDir: pathwayPCA.Rcheck Warnings: 0